BEGIN:VCALENDAR
PRODID:-//AT Content Types//AT Event//EN
VERSION:1.0
BEGIN:VEVENT
DTSTART:20140224T143000Z
DTEND:20140224T163000Z
DCREATED:20140121T042141Z
UID:ATEvent-9e53f1a67fcc4b868441e30a06b5ec5a
SEQUENCE:0
LAST-MODIFIED:20140121T042149Z
SUMMARY:Mobile World Congress 2014 Town Hall
LOCATION:Barcelona
PRIORITY:3
TRANSP:0
END:VEVENT
END:VCALENDAR
