BEGIN:VCALENDAR
PRODID:-//AT Content Types//AT Event//EN
VERSION:2.0
METHOD:PUBLISH
BEGIN:VEVENT
DTSTAMP:20260421T125245Z
CREATED:20131129T101826Z
UID:ATEvent-3b0644963fcf486bb8616d3379c4f69a
LAST-MODIFIED:20131129T101830Z
SUMMARY:HEPiX Spring 2014 at LAPP
DTSTART:20140519T170000Z
DTEND:20140523T080000Z
DESCRIPTION:The HEPiX forum brings together worldwide Information Tech
 nology staff\, including system administrators\, system engineers\, an
 d managers from the High Energy Physics and Nuclear Physics laboratori
 es and institutes\, to foster a learning and sharing experience betwee
 n sites facing scientific computing and data challenges.\nParticipatin
 g sites include BNL\, CERN\, DESY\, FNAL\, IN2P3\, INFN\, JLAB\, NIKHE
 F\, RAL\, SLAC\, TRIUMF and many others.
LOCATION:LAPP Auditorium Marcel Vivargent 9 Chemin de Bellevue 74940 Annecy-le-Vieux FRANCE
URL:https://indico.cern.ch/conferenceDisplay.py?confId=274555
CLASS:PUBLIC
END:VEVENT
END:VCALENDAR
