BEGIN:VCALENDAR
PRODID:-//AT Content Types//AT Event//EN
VERSION:1.0
BEGIN:VEVENT
DTSTART:20140627T054500Z
DTEND:20140629T054500Z
DCREATED:20131129T054534Z
UID:ATEvent-54b03be87480476d9fd479d711ce937f
SEQUENCE:0
LAST-MODIFIED:20131129T054548Z
SUMMARY:Exceptionally Hard & Soft Meeting pushing the frontiers of open source and DIY
LOCATION:DESY Notkestrasse 85 22607 Hamburg\, Germany
PRIORITY:3
TRANSP:0
END:VEVENT
END:VCALENDAR
